BEGIN:VCALENDAR
VERSION:2.0
PRODID:-//https://vic.raeme.org.au///NONSGML kigkonsult.se iCalcreator 2.10.15//
METHOD:PUBLISH
BEGIN:VEVENT
UID:20260421T180954AEST-6295kamCWw@https://vic.raeme.org.au/
DTSTAMP:20260421T080954Z
DESCRIPTION: https://vic.raeme.org.au/index.php/component/rseventspro/event
 /37-raeme-assoc-victoria-anzac-reunion?Itemid=101
DTSTART:20190414T013000Z
DTEND:20190414T050000Z
LOCATION:Clayton RSL (163 Carinish Road\, Clayton VIC 3168\, Australia)
SUMMARY:RAEME Assoc. Victoria - ANZAC Reunion
URL:https://vic.raeme.org.au/index.php/component/rseventspro/event/37-raeme
 -assoc-victoria-anzac-reunion?Itemid=101
END:VEVENT
END:VCALENDAR
