BEGIN:VCALENDAR
VERSION:2.0
PRODID:-//https://vic.raeme.org.au///NONSGML kigkonsult.se iCalcreator 2.10.15//
METHOD:PUBLISH
BEGIN:VEVENT
UID:20260425T071941AEST-1433G5DttR@https://vic.raeme.org.au/
DTSTAMP:20260424T211941Z
DESCRIPTION:Just up from Mail Exchange Hotel.MEETING POINT - Downstairs.$5.
 00 Beers\, plus Vietnamese food for those that are hungry.670 Bourke Stree
 t. Melbourne\n&nbsp\;\n670 Bourke Street\, Melbourne Victoria 3000\n https
 ://vic.raeme.org.au/index.php/notice-board/coming-events/event/52-spanner-
 club
DTSTART:20200221T040000Z
DTEND:20200221T080000Z
LOCATION:Dot Spot Vietnamese (670 Bourke Street\, Melbourne Victoria)
SUMMARY:Spanner Club
URL:https://vic.raeme.org.au/index.php/notice-board/coming-events/event/52-
 spanner-club
END:VEVENT
END:VCALENDAR
