BEGIN:VCALENDAR
VERSION:2.0
PRODID:-//https://vic.raeme.org.au///NONSGML kigkonsult.se iCalcreator 2.10.15//
METHOD:PUBLISH
BEGIN:VEVENT
UID:20260425T092023AEST-77565xK5Gk@https://vic.raeme.org.au/
DTSTAMP:20260424T232023Z
DESCRIPTION:670 Bourke Street\, Melbourne Victoria 3000\n https://vic.raeme
 .org.au/index.php/notice-board/coming-events/event/54-spanner-club-2021
DTSTART:20211210T053000Z
DTEND:20211210T083000Z
LOCATION:Dot Spot Vietnamese (670 Bourke Street\, Melbourne Victoria)
SUMMARY:Spanner Club - 2021
URL:https://vic.raeme.org.au/index.php/notice-board/coming-events/event/54-
 spanner-club-2021
END:VEVENT
END:VCALENDAR
