BEGIN:VCALENDAR
VERSION:2.0
PRODID:-//https://vic.raeme.org.au///NONSGML kigkonsult.se iCalcreator 2.10.15//
METHOD:PUBLISH
BEGIN:VEVENT
UID:20260425T075110AEST-6341AxPEKX@https://vic.raeme.org.au/
DTSTAMP:20260424T215110Z
DESCRIPTION:670 Bourke Street\, Melbourne Victoria 3000\n https://vic.raeme
 .org.au/index.php/notice-board/coming-events/event/55-spanner-club-2021
DTSTART:20210716T063000Z
DTEND:20210716T093000Z
LOCATION:Dot Spot Vietnamese (670 Bourke Street\, Melbourne Victoria)
SUMMARY:Spanner Club - 2021
URL:https://vic.raeme.org.au/index.php/notice-board/coming-events/event/55-
 spanner-club-2021
END:VEVENT
END:VCALENDAR
