BEGIN:VCALENDAR
VERSION:2.0
PRODID:-//https://vic.raeme.org.au///NONSGML kigkonsult.se iCalcreator 2.10.15//
METHOD:PUBLISH
BEGIN:VEVENT
UID:20260425T075014AEST-6600u002f7@https://vic.raeme.org.au/
DTSTAMP:20260424T215014Z
DESCRIPTION:670 Bourke Street\, Melbourne Victoria 3000\n https://vic.raeme
 .org.au/index.php/notice-board/coming-events/event/56-spanner-club-2021
DTSTART:20211105T053037Z
DTEND:20211105T083037Z
LOCATION:Dot Spot Vietnamese (670 Bourke Street\, Melbourne Victoria)
SUMMARY:Spanner Club - 2021
URL:https://vic.raeme.org.au/index.php/notice-board/coming-events/event/56-
 spanner-club-2021
END:VEVENT
END:VCALENDAR
