BEGIN:VCALENDAR
VERSION:2.0
PRODID:-//https://vic.raeme.org.au///NONSGML kigkonsult.se iCalcreator 2.10.15//
METHOD:PUBLISH
BEGIN:VEVENT
UID:20260425T055627AEST-7165BbnZnC@https://vic.raeme.org.au/
DTSTAMP:20260424T195627Z
DESCRIPTION:670 Bourke Street\, Melbourne Victoria 3000\n\n https://vic.rae
 me.org.au/index.php/notice-board/coming-events/event/57-spanner-club-2021
DTSTART:20210514T063000Z
DTEND:20210514T093000Z
LOCATION:Mail Exchange Hotel (Spencer St\, Melbourne VIC\, Australia)
SUMMARY:Spanner Club - 2021
URL:https://vic.raeme.org.au/index.php/notice-board/coming-events/event/57-
 spanner-club-2021
END:VEVENT
END:VCALENDAR
