BEGIN:VCALENDAR
VERSION:2.0
PRODID:-//https://vic.raeme.org.au///NONSGML kigkonsult.se iCalcreator 2.10.15//
METHOD:PUBLISH
BEGIN:VEVENT
UID:20260421T153823AEST-5728tWNUtC@https://vic.raeme.org.au/
DTSTAMP:20260421T053823Z
DESCRIPTION: https://vic.raeme.org.au/index.php/notice-board/events/event/5
 8-spanner-club
DTSTART:20220819T060000Z
DTEND:20220819T110000Z
LOCATION:Mail Exchange Hotel (Spencer St\, Melbourne VIC\, Australia)
SUMMARY:Spanner Club
URL:https://vic.raeme.org.au/index.php/notice-board/events/event/58-spanner
 -club
END:VEVENT
END:VCALENDAR
